BEGIN:VCALENDAR
VERSION:2.0
PRODID:-//Halstad - ECPv6.15.20//NONSGML v1.0//EN
CALSCALE:GREGORIAN
METHOD:PUBLISH
X-WR-CALNAME:Halstad
X-ORIGINAL-URL:https://halstad.com
X-WR-CALDESC:Events for Halstad
REFRESH-INTERVAL;VALUE=DURATION:PT1H
X-Robots-Tag:noindex
X-PUBLISHED-TTL:PT1H
BEGIN:VTIMEZONE
TZID:America/New_York
BEGIN:DAYLIGHT
TZOFFSETFROM:-0500
TZOFFSETTO:-0400
TZNAME:EDT
DTSTART:20250309T070000
END:DAYLIGHT
BEGIN:STANDARD
TZOFFSETFROM:-0400
TZOFFSETTO:-0500
TZNAME:EST
DTSTART:20251102T060000
END:STANDARD
BEGIN:DAYLIGHT
TZOFFSETFROM:-0500
TZOFFSETTO:-0400
TZNAME:EDT
DTSTART:20260308T070000
END:DAYLIGHT
BEGIN:STANDARD
TZOFFSETFROM:-0400
TZOFFSETTO:-0500
TZNAME:EST
DTSTART:20261101T060000
END:STANDARD
BEGIN:DAYLIGHT
TZOFFSETFROM:-0500
TZOFFSETTO:-0400
TZNAME:EDT
DTSTART:20270314T070000
END:DAYLIGHT
BEGIN:STANDARD
TZOFFSETFROM:-0400
TZOFFSETTO:-0500
TZNAME:EST
DTSTART:20271107T060000
END:STANDARD
END:VTIMEZONE
BEGIN:VEVENT
DTSTART;TZID=America/New_York:20260309T171500
DTEND;TZID=America/New_York:20260309T171500
DTSTAMP:20260421T124644
CREATED:20260324T210652Z
LAST-MODIFIED:20260324T210652Z
UID:4565-1773076500-1773076500@halstad.com
SUMMARY:Halstad City Council Meeting
DESCRIPTION:
URL:https://halstad.com/event/halstad-city-council-meeting-36/
LOCATION:Halstad Telephone Company Meeting Room\, 345 2nd Ave W\, Halstad\, MN\, 56548\, United States
END:VEVENT
BEGIN:VEVENT
DTSTART;TZID=America/New_York:20260330T180000
DTEND;TZID=America/New_York:20260330T180000
DTSTAMP:20260421T124644
CREATED:20260324T211542Z
LAST-MODIFIED:20260324T211542Z
UID:4575-1774893600-1774893600@halstad.com
SUMMARY:Halstad Community Dinner
DESCRIPTION:
URL:https://halstad.com/event/halstad-community-dinner-5/
LOCATION:Halstad LRC\, 580 2nd Ave W\, Halstad\, MN
ATTACH;FMTTYPE=application/pdf:https://halstad.com/wp-content/uploads/2026/03/2026-Spring-Dinner.pdf
END:VEVENT
END:VCALENDAR